BEGIN:VCALENDAR
VERSION:2.0
PRODID:Events Booking
BEGIN:VEVENT
UID:69e77dd13c0b9
SUMMARY:Zweimaurer
DESCRIPTION:
 
 
 
 
 
 
 Anna Maurer – vocals\, pianoChristian Ma
 urer – saxophoneRobert Riegler – bassWolfi Rainer -&nbsp\; drums
 &nb
 sp\;
 
 
 
 
 
 
 
 
LOCATION:Grieskai 74a\, 8020 Graz
DTSTART:20250130T190000Z
DTSTAMP:20260421T153825Z
ORGANIZER:MAILTO:tickets@tubes-music.at
GEO:47.062323;15.4334
X-APPLE-STRUCTURED-LOCATION;VALUE=URI;X-ADDRESS=Grieskai 74a\, 8020 Graz;X-
 APPLE-RADIUS=72;X-TITLE=Tube's:47.062323;15.4334
END:VEVENT
END:VCALENDAR