BEGIN:VCALENDAR
VERSION:2.0
PRODID:Events Booking
BEGIN:VEVENT
UID:69e8ee097ddcd
SUMMARY:Samuel Yirga
DESCRIPTION:
 
 
 
 
 Mitiku Samuel Yirga - pianoKetema Yirga - saxoph
 oneTessema Zekarias Getahun - guitarBiur Benjam Birhannu - guitarMussa Ash
 enafi Ali - bassBiratu Mulugeta Geresu - drums
 presented by GamsbART
 
 
 
 
 
 
LOCATION:Grieskai 74a\, 8020 Graz
DTSTART:20231002T180000Z
DTSTAMP:20260422T174929Z
ORGANIZER:MAILTO:tickets@tubes-music.at
GEO:47.062323;15.4334
X-APPLE-STRUCTURED-LOCATION;VALUE=URI;X-ADDRESS=Grieskai 74a\, 8020 Graz;X-
 APPLE-RADIUS=72;X-TITLE=Tube's:47.062323;15.4334
END:VEVENT
END:VCALENDAR