BEGIN:VCALENDAR
VERSION:2.0
PRODID:Events Booking
BEGIN:VEVENT
UID:69e8432432ed2
SUMMARY:Niki Waltersdorfer
DESCRIPTION:
 
 
 
 
 
 
 Niki Waltersdorfer - Gesang\, Gitarre\, Co
 ngasLukas Meißl - KeyboardMaximilian Kreuzer - BassSimon Reithofer - Gita
 rreJohannes Kölbl - Drums
 
 
 
 
 
 
 
LOCATION:Grieskai 74a\, 8020 Graz
DTSTART:20240522T180000Z
DTSTAMP:20260422T054020Z
ORGANIZER:MAILTO:tickets@tubes-music.at
GEO:47.062323;15.4334
X-APPLE-STRUCTURED-LOCATION;VALUE=URI;X-ADDRESS=Grieskai 74a\, 8020 Graz;X-
 APPLE-RADIUS=72;X-TITLE=Tube's:47.062323;15.4334
END:VEVENT
END:VCALENDAR