BEGIN:VCALENDAR
VERSION:2.0
PRODID:Events Booking
BEGIN:VEVENT
UID:69e8431533a6d
SUMMARY:Vostok – Remote Islands
DESCRIPTION:
 
 
 
 
 
 
 Fie Schouten -&nbsp\;clarinetsVincent Cour
 tois - celloGuus Janssen -&nbsp\;piano
 presented by OPEN MUSIC
 
 
 
 
 
 
 
 
LOCATION:Grieskai 74a\, 8020 Graz
DTSTART:20240514T180000Z
DTSTAMP:20260422T054005Z
ORGANIZER:MAILTO:tickets@tubes-music.at
GEO:47.062323;15.4334
X-APPLE-STRUCTURED-LOCATION;VALUE=URI;X-ADDRESS=Grieskai 74a\, 8020 Graz;X-
 APPLE-RADIUS=72;X-TITLE=Tube's:47.062323;15.4334
END:VEVENT
END:VCALENDAR