BEGIN:VCALENDAR
VERSION:2.0
PRODID:Events Booking
BEGIN:VEVENT
UID:69e73d4b7846d
SUMMARY:KonsPop - Vocal - Night 25
DESCRIPTION:
 
 
 
 
 Matthias Sommeregger\, bass
 Dominik Mlinar\, d
 rums
 Stefan Ziesemer\, drums
 Patrik Thurner\, piano
 
 
 
 
 
LOCATION:Grieskai 74a\, 8020 Graz
DTSTART:20250428T180000Z
DTSTAMP:20260421T110307Z
ORGANIZER:MAILTO:tickets@tubes-music.at
GEO:47.062323;15.4334
X-APPLE-STRUCTURED-LOCATION;VALUE=URI;X-ADDRESS=Grieskai 74a\, 8020 Graz;X-
 APPLE-RADIUS=72;X-TITLE=Tube's:47.062323;15.4334
END:VEVENT
END:VCALENDAR