BEGIN:VCALENDAR
VERSION:2.0
PRODID:Events Booking
BEGIN:VEVENT
UID:69ea13ac4b0d3
SUMMARY:Valcic - Preuschl
DESCRIPTION:
 Asja Valcic - CelloRaphael Preuschl - Bassukulele
 presente
 d by: GamsbART
 
LOCATION:Grieskai 74a\, 8020 Graz
DTSTART:20221017T180000Z
DTSTAMP:20260423T144220Z
ORGANIZER:MAILTO:tickets@tubes-music.at
GEO:47.062323;15.4334
X-APPLE-STRUCTURED-LOCATION;VALUE=URI;X-ADDRESS=Grieskai 74a\, 8020 Graz;X-
 APPLE-RADIUS=72;X-TITLE=Tube's:47.062323;15.4334
END:VEVENT
END:VCALENDAR