BEGIN:VCALENDAR
VERSION:2.0
PRODID:Events Booking
BEGIN:VEVENT
UID:69ea135a024a8
SUMMARY:Steve Turre
DESCRIPTION:Steve Turré&nbsp\;- trombone\, shells
 &amp\; Marco Marzola T
 rio
  Xavier Davis - pianoMarco Marzola - bassOrion Turre - drums
LOCATION:Grieskai 74a\, 8020 Graz
DTSTART:20221019T180000Z
DTSTAMP:20260423T144058Z
ORGANIZER:MAILTO:tickets@tubes-music.at
GEO:47.062323;15.4334
X-APPLE-STRUCTURED-LOCATION;VALUE=URI;X-ADDRESS=Grieskai 74a\, 8020 Graz;X-
 APPLE-RADIUS=72;X-TITLE=Tube's:47.062323;15.4334
END:VEVENT
END:VCALENDAR