BEGIN:VCALENDAR
VERSION:2.0
PRODID:Events Booking
BEGIN:VEVENT
UID:69e7c9f65a064
SUMMARY:Shuffle Truffle
DESCRIPTION:Reinhard Grube&nbsp\;– saxophoneSaša Mitrović&nbsp\;– tru
 mpetHelfried Grygar&nbsp\;– drumsMichael Scarpatetti&nbsp\;– bassJörg
  Horina&nbsp\;– vocals\, guitar
LOCATION:Grieskai 74a\, 8020 Graz
DTSTART:20241031T190000Z
DTSTAMP:20240724T170419Z
ORGANIZER:MAILTO:tickets@tubes-music.at
GEO:47.062323;15.4334
X-APPLE-STRUCTURED-LOCATION;VALUE=URI;X-ADDRESS=Grieskai 74a\, 8020 Graz;X-
 APPLE-RADIUS=72;X-TITLE=Tube's:47.062323;15.4334
END:VEVENT
END:VCALENDAR