BEGIN:VCALENDAR
VERSION:2.0
PRODID:Events Booking
BEGIN:VEVENT
UID:69ea7304cce31
SUMMARY:KUG - Trombones & Ensemble
DESCRIPTION:KUG - Trombone Ensemble
 Manuel IranzoMathias BernsteinerFelix
  SteinertHrvoje StefanicMatej Leskovar&amp\;Matic Stemberger - pianoJakob 
 Gönitzer - bassJan Krizanic-Nessmann&nbsp\;- drums
 &nbsp\;
 KUG - Mast
 ers Ensemble
 Armin Jambor - saxophoneTilen Gavranovic&nbsp\;- guitarAndr
 ea Candeloro - pianoHrvoje Kral - bassJan Krizanic-Nessmann&nbsp\;- drums
LOCATION:Grieskai 74a\, 8020 Graz
DTSTART:20220618T180000Z
DTSTAMP:20260423T212908Z
ORGANIZER:MAILTO:tickets@tubes-music.at
GEO:47.062323;15.4334
X-APPLE-STRUCTURED-LOCATION;VALUE=URI;X-ADDRESS=Grieskai 74a\, 8020 Graz;X-
 APPLE-RADIUS=72;X-TITLE=Tube's:47.062323;15.4334
END:VEVENT
END:VCALENDAR