BEGIN:VCALENDAR
VERSION:2.0
PRODID:Events Booking
BEGIN:VEVENT
UID:69e7514f6960f
SUMMARY:Trumpet Summit 25
DESCRIPTION:
 
 
 
 
 Mike Rodriguez – trumpetSuzan Veneman – trum
 petGerhard Ornig – trumpet
 Saša Mutić – pianoHrvoje Kral - bassVla
 dimir Kostadinović&nbsp\;– drums
 
 
 
 
 
LOCATION:Grieskai 74a\, 8020 Graz
DTSTART:20250327T190000Z
DTSTAMP:20260421T122831Z
ORGANIZER:MAILTO:tickets@tubes-music.at
GEO:47.062323;15.4334
X-APPLE-STRUCTURED-LOCATION;VALUE=URI;X-ADDRESS=Grieskai 74a\, 8020 Graz;X-
 APPLE-RADIUS=72;X-TITLE=Tube's:47.062323;15.4334
END:VEVENT
END:VCALENDAR