BEGIN:VCALENDAR
VERSION:2.0
PRODID:Events Booking
BEGIN:VEVENT
UID:69e87084935a3
SUMMARY:Francesca Tandoi Trio
DESCRIPTION:
 
 
 
 
 Francesca Tandoi - piano\, vocalMorten Ramsbøl 
 - bassKristian Leth - drums
 
 
 
 
 
LOCATION:Grieskai 74a\, 8020 Graz
DTSTART:20240309T190000Z
DTSTAMP:20260422T085356Z
ORGANIZER:MAILTO:tickets@tubes-music.at
GEO:47.062323;15.4334
X-APPLE-STRUCTURED-LOCATION;VALUE=URI;X-ADDRESS=Grieskai 74a\, 8020 Graz;X-
 APPLE-RADIUS=72;X-TITLE=Tube's:47.062323;15.4334
END:VEVENT
END:VCALENDAR