BEGIN:VCALENDAR
VERSION:2.0
PRODID:Events Booking
BEGIN:VEVENT
UID:69eb1a2379539
SUMMARY:Taborn / Reid / Smith
DESCRIPTION:presented by&nbsp\;\"open music\"
 Craig Taborn&nbsp\;- piano\
 , electronics Tomeka Reid - cello Ches Smith&nbsp\;- percussion\, drums
LOCATION:Grieskai 74a\, 8020 Graz
DTSTART:20211109T190000Z
DTSTAMP:20260424T092211Z
ORGANIZER:MAILTO:tickets@tubes-music.at
GEO:47.062323;15.4334
X-APPLE-STRUCTURED-LOCATION;VALUE=URI;X-ADDRESS=Grieskai 74a\, 8020 Graz;X-
 APPLE-RADIUS=72;X-TITLE=Tube's:47.062323;15.4334
END:VEVENT
END:VCALENDAR