BEGIN:VCALENDAR
VERSION:2.0
PRODID:Events Booking
BEGIN:VEVENT
UID:69ea13ac5895b
SUMMARY:Lew Tabackin Trio
DESCRIPTION:Lew Tabackin&nbsp\;- tenor saxophone Morten Ramsbøl&nbsp\;- ba
 ssChris Smith - drums
LOCATION:Grieskai 74a\, 8020 Graz
DTSTART:20221020T180000Z
DTSTAMP:20260423T144220Z
ORGANIZER:MAILTO:tickets@tubes-music.at
GEO:47.062323;15.4334
X-APPLE-STRUCTURED-LOCATION;VALUE=URI;X-ADDRESS=Grieskai 74a\, 8020 Graz;X-
 APPLE-RADIUS=72;X-TITLE=Tube's:47.062323;15.4334
END:VEVENT
END:VCALENDAR