BEGIN:VCALENDAR
VERSION:2.0
PRODID:Events Booking
BEGIN:VEVENT
UID:69e85a7113384
SUMMARY:Trumpet Summit
DESCRIPTION:
 
 
 
 
 
 
 Alex Sipiagin&nbsp\;- trumpetJim Rotondi&n
 bsp\;- trumpetDaniel Nösig&nbsp\;- trumpetAnil Bilgen - pianoHrvoje Kral 
 - bassMario Gonzi - drums
 
 
 
 
 
 
 
LOCATION:Grieskai 74a\, 8020 Graz
DTSTART:20240413T180000Z
DTSTAMP:20260422T071945Z
ORGANIZER:MAILTO:tickets@tubes-music.at
GEO:47.062323;15.4334
X-APPLE-STRUCTURED-LOCATION;VALUE=URI;X-ADDRESS=Grieskai 74a\, 8020 Graz;X-
 APPLE-RADIUS=72;X-TITLE=Tube's:47.062323;15.4334
END:VEVENT
END:VCALENDAR