BEGIN:VCALENDAR
VERSION:2.0
PRODID:Events Booking
BEGIN:VEVENT
UID:69e94fe7bd505
SUMMARY:Roman Stolyar & Alípio Carvalho Neto
DESCRIPTION:
 
 
 
 presented by krumusic
 &nbsp\;Roman Stolyar (RUS/G
 ER)&nbsp\;- pianoAlípio Carvalho Neto (BRA/ITA) - saxophone
 
 
 
 
LOCATION:Grieskai 74a\, 8020 Graz
DTSTART:20230612T180000Z
DTSTAMP:20260423T004703Z
ORGANIZER:MAILTO:tickets@tubes-music.at
GEO:47.062323;15.4334
X-APPLE-STRUCTURED-LOCATION;VALUE=URI;X-ADDRESS=Grieskai 74a\, 8020 Graz;X-
 APPLE-RADIUS=72;X-TITLE=Tube's:47.062323;15.4334
END:VEVENT
END:VCALENDAR