BEGIN:VCALENDAR
VERSION:2.0
PRODID:Events Booking
BEGIN:VEVENT
UID:69e7af9452e55
SUMMARY:Štêpánka Balcarová
DESCRIPTION:
 
 
 
 
 
 
 Štêpánka Balcarová&nbsp\;- trumpet
 L
 ajos Toth&nbsp\;- pianoThomas Wilding&nbsp\;- bassKlaus Fürstner - drums
 
 
 
 
 
 
 
 
 
LOCATION:Grieskai 74a\, 8020 Graz
DTSTART:20241122T190000Z
DTSTAMP:20260421T191044Z
ORGANIZER:MAILTO:tickets@tubes-music.at
GEO:47.062323;15.4334
X-APPLE-STRUCTURED-LOCATION;VALUE=URI;X-ADDRESS=Grieskai 74a\, 8020 Graz;X-
 APPLE-RADIUS=72;X-TITLE=Tube's:47.062323;15.4334
END:VEVENT
END:VCALENDAR