BEGIN:VCALENDAR
VERSION:2.0
PRODID:Events Booking
BEGIN:VEVENT
UID:69e9e79cb06b0
SUMMARY:Karel Eriksson Sound Pollution Eclectic
DESCRIPTION:presented by GamsbART
 Karel Eriksson - tb\;Gerhard Ornig - tr
 umpet\;Emiliano Sampaio - guitar\;Thilo Seevers - keyboards\;Luis Olivera 
 - drums\;&nbsp\;
LOCATION:Grieskai 74a\, 8020 Graz
DTSTART:20221205T190000Z
DTSTAMP:20260423T113420Z
ORGANIZER:MAILTO:tickets@tubes-music.at
GEO:47.062323;15.4334
X-APPLE-STRUCTURED-LOCATION;VALUE=URI;X-ADDRESS=Grieskai 74a\, 8020 Graz;X-
 APPLE-RADIUS=72;X-TITLE=Tube's:47.062323;15.4334
END:VEVENT
END:VCALENDAR