BEGIN:VCALENDAR
VERSION:2.0
PRODID:Events Booking
BEGIN:VEVENT
UID:69e9fe751b1b4
SUMMARY:Alex Miksch Trio
DESCRIPTION:Austrian Soundcheck 2022presented by: GamsbART
 Alex Miksch -&
 nbsp\;Gesang\, GitarreAnna Anderluh -&nbsp\;Gesang\, AutoharpPhilipp Moosb
 rugger -&nbsp\;Kontrabass&nbsp\;
LOCATION:Grieskai 74a\, 8020 Graz
DTSTART:20221107T190000Z
DTSTAMP:20260423T131149Z
ORGANIZER:MAILTO:tickets@tubes-music.at
GEO:47.062323;15.4334
X-APPLE-STRUCTURED-LOCATION;VALUE=URI;X-ADDRESS=Grieskai 74a\, 8020 Graz;X-
 APPLE-RADIUS=72;X-TITLE=Tube's:47.062323;15.4334
END:VEVENT
END:VCALENDAR