BEGIN:VCALENDAR
VERSION:2.0
PRODID:Events Booking
BEGIN:VEVENT
UID:69e99ced7f354
SUMMARY:Soothsayer
DESCRIPTION:
 
 
 
 Lenart De Bock (SLO) – Ten/Sop
 Miloš Čolović
  (SRB) – Double BassSebastian Baumgartner (GER) - Drums
 &nbsp\;
 &nbs
 p\;
 
 
 
 
LOCATION:Grieskai 74a\, 8020 Graz
DTSTART:20230315T190000Z
DTSTAMP:20260423T061541Z
ORGANIZER:MAILTO:tickets@tubes-music.at
GEO:47.062323;15.4334
X-APPLE-STRUCTURED-LOCATION;VALUE=URI;X-ADDRESS=Grieskai 74a\, 8020 Graz;X-
 APPLE-RADIUS=72;X-TITLE=Tube's:47.062323;15.4334
END:VEVENT
END:VCALENDAR