BEGIN:VCALENDAR
VERSION:2.0
PRODID:Events Booking
BEGIN:VEVENT
UID:69e9e268e2a9c
SUMMARY:Soko Dixie & Wolfram Berger - Kinderkonzert
DESCRIPTION:Wolfram Berger - text
 Roman Ackerl - tb\, voc\;Johann Prassl 
 - cl\, ss\, voc\;Hannes Fauster - bj\, voc\;Georg Scheifinger - sous\, tp\
 ;Toni Eder - wb
 &nbsp\;
LOCATION:Grieskai 74a\, 8020 Graz
DTSTART:20221204T160000Z
DTSTAMP:20260423T111208Z
ORGANIZER:MAILTO:tickets@tubes-music.at
GEO:47.062323;15.4334
X-APPLE-STRUCTURED-LOCATION;VALUE=URI;X-ADDRESS=Grieskai 74a\, 8020 Graz;X-
 APPLE-RADIUS=72;X-TITLE=Tube's:47.062323;15.4334
END:VEVENT
END:VCALENDAR