BEGIN:VCALENDAR
VERSION:2.0
PRODID:Events Booking
BEGIN:VEVENT
UID:69e76a12700cd
SUMMARY:Smart Metal Hornets
DESCRIPTION:
 
 
 
 
 Gernot Strebl - Tenor-/Sopran-/Altsaxophon\, Kla
 rinette\;Sascha Ryndenko - Bariton-/Tenor-/Sopransaxophon\, Bassklarinette
 Klaus Fürstner -&nbsp\;Drums/Percussion
 Christoph Wundrak -&nbsp\;Flüg
 elhorn\, Eufonium\, Cornett\, Tuba\, Komposition/Arrangement\;
 
 
 
 
 
 
LOCATION:Grieskai 74a\, 8020 Graz
DTSTART:20250201T190000Z
DTSTAMP:20260421T141410Z
ORGANIZER:MAILTO:tickets@tubes-music.at
GEO:47.062323;15.4334
X-APPLE-STRUCTURED-LOCATION;VALUE=URI;X-ADDRESS=Grieskai 74a\, 8020 Graz;X-
 APPLE-RADIUS=72;X-TITLE=Tube's:47.062323;15.4334
END:VEVENT
END:VCALENDAR