BEGIN:VCALENDAR
VERSION:2.0
PRODID:Events Booking
BEGIN:VEVENT
UID:69e85914dafb4
SUMMARY:Skylark Quartet & Mathieu Michel
DESCRIPTION:
 
 
 
 
 
 
 Patrick Joray (CH)\, saxSamuele Sorana (IT
 )\, guitar/compTobias Melcher (AT)\, bass/compMarton Juhasz (HU)\, drums

  featuring:Mathieu Michel (CH) - trumpet
 
 
 
 
 
 
 
LOCATION:Grieskai 74a\, 8020 Graz
DTSTART:20240405T180000Z
DTSTAMP:20260422T071356Z
ORGANIZER:MAILTO:tickets@tubes-music.at
GEO:47.062323;15.4334
X-APPLE-STRUCTURED-LOCATION;VALUE=URI;X-ADDRESS=Grieskai 74a\, 8020 Graz;X-
 APPLE-RADIUS=72;X-TITLE=Tube's:47.062323;15.4334
END:VEVENT
END:VCALENDAR