BEGIN:VCALENDAR
VERSION:2.0
PRODID:Events Booking
BEGIN:VEVENT
UID:69e9e803e14b4
SUMMARY:Gerd Schuller - Beatles Project
DESCRIPTION:80 Jahre Paul McCartney „SWINGIN THE BEAT“
 &nbsp\;
 Gerd
  Schuller - piano\, keyboards
 Klaus Melem - bassManfred Josel - drums
 
 &nbsp\;
 presented by GamsbART
LOCATION:Grieskai 74a\, 8020 Graz
DTSTART:20221208T190000Z
DTSTAMP:20260423T113603Z
ORGANIZER:MAILTO:tickets@tubes-music.at
GEO:47.062323;15.4334
X-APPLE-STRUCTURED-LOCATION;VALUE=URI;X-ADDRESS=Grieskai 74a\, 8020 Graz;X-
 APPLE-RADIUS=72;X-TITLE=Tube's:47.062323;15.4334
END:VEVENT
END:VCALENDAR