BEGIN:VCALENDAR
VERSION:2.0
PRODID:Events Booking
BEGIN:VEVENT
UID:69e8b8d5ed368
SUMMARY:Saxofour
DESCRIPTION:
 
 
 
 
 Florian Bramböck&nbsp\;- ts\, bsKlaus Dickbauer
  - cl\, as\, bs\, bclChristian Maurer - ss\, ts\, bclWolfgang Puschnig - a
 s\, flute\, altoflue
 
 
 
 
 
LOCATION:Grieskai 74a\, 8020 Graz
DTSTART:20231215T190000Z
DTSTAMP:20260422T140229Z
ORGANIZER:MAILTO:tickets@tubes-music.at
GEO:47.062323;15.4334
X-APPLE-STRUCTURED-LOCATION;VALUE=URI;X-ADDRESS=Grieskai 74a\, 8020 Graz;X-
 APPLE-RADIUS=72;X-TITLE=Tube's:47.062323;15.4334
END:VEVENT
END:VCALENDAR