BEGIN:VCALENDAR
VERSION:2.0
PRODID:Events Booking
BEGIN:VEVENT
UID:69eaa75a31fe9
SUMMARY:Steven Santoro & Walter Fischbacher Trio
DESCRIPTION:Steven Santoro - vocal\, compWalter Fischbacher - pianoPetr Dvo
 rsky - bassAlex Bernath - drums
LOCATION:Grieskai 74a\, 8020 Graz
DTSTART:20220530T180000Z
DTSTAMP:20260424T011226Z
ORGANIZER:MAILTO:tickets@tubes-music.at
GEO:47.062323;15.4334
X-APPLE-STRUCTURED-LOCATION;VALUE=URI;X-ADDRESS=Grieskai 74a\, 8020 Graz;X-
 APPLE-RADIUS=72;X-TITLE=Tube's:47.062323;15.4334
END:VEVENT
END:VCALENDAR