BEGIN:VCALENDAR
VERSION:2.0
PRODID:Events Booking
BEGIN:VEVENT
UID:69eaab4679ae6
SUMMARY:Mathias Ruppnig - Reunion Quartet
DESCRIPTION:Jure Pukl - sax
 Marko Črnčec - piano
 Robert Jukič - bass
 
 Mathias Ruppnig - drums
LOCATION:Grieskai 74a\, 8020 Graz
DTSTART:20220408T180000Z
DTSTAMP:20260424T012910Z
ORGANIZER:MAILTO:tickets@tubes-music.at
GEO:47.062323;15.4334
X-APPLE-STRUCTURED-LOCATION;VALUE=URI;X-ADDRESS=Grieskai 74a\, 8020 Graz;X-
 APPLE-RADIUS=72;X-TITLE=Tube's:47.062323;15.4334
END:VEVENT
END:VCALENDAR