BEGIN:VCALENDAR
VERSION:2.0
PRODID:Events Booking
BEGIN:VEVENT
UID:69e99da752f69
SUMMARY:Hank Roberts Trio
DESCRIPTION:
 
 
 
 presented by [Open Music]
 &nbsp\;
 Hank Roberts&
 nbsp\;- cello\, vocalsAruán Ortiz&nbsp\;- pianoMatt Wilson&nbsp\;- drums
 
 
 
 
 
LOCATION:Grieskai 74a\, 8020 Graz
DTSTART:20230328T180000Z
DTSTAMP:20260423T061847Z
ORGANIZER:MAILTO:tickets@tubes-music.at
GEO:47.062323;15.4334
X-APPLE-STRUCTURED-LOCATION;VALUE=URI;X-ADDRESS=Grieskai 74a\, 8020 Graz;X-
 APPLE-RADIUS=72;X-TITLE=Tube's:47.062323;15.4334
END:VEVENT
END:VCALENDAR