BEGIN:VCALENDAR
VERSION:2.0
PRODID:Events Booking
BEGIN:VEVENT
UID:69e99da72e898
SUMMARY:John Riley - Latin Quintet
DESCRIPTION:
 
 
 
 Kaan Karadavut&nbsp\;- trumpetLuis Bonilla&nbsp\;- 
 trombone
 Günther Brück&nbsp\;- piano
 Kajetan Kamenjasevic&nbsp\;- ba
 ss
 &amp\;
 John Riley - drums
 &nbsp\;
 &nbsp\;
 
 
 
 
LOCATION:Grieskai 74a\, 8020 Graz
DTSTART:20230318T190000Z
DTSTAMP:20260423T061847Z
ORGANIZER:MAILTO:tickets@tubes-music.at
GEO:47.062323;15.4334
X-APPLE-STRUCTURED-LOCATION;VALUE=URI;X-ADDRESS=Grieskai 74a\, 8020 Graz;X-
 APPLE-RADIUS=72;X-TITLE=Tube's:47.062323;15.4334
END:VEVENT
END:VCALENDAR