BEGIN:VCALENDAR
VERSION:2.0
PRODID:Events Booking
BEGIN:VEVENT
UID:69e99dcaaefdb
SUMMARY:John Riley - Quartet
DESCRIPTION:
 
 
 
 Renato Chicco&nbsp\;- pianoTobias Pustelnik&nbsp\;-
  saxophoneDanny Ziemann -&nbsp\;bass
 &amp\;
 John Riley - drums
 &nbsp
 \;
 &nbsp\;
 
 
 
 
LOCATION:Grieskai 74a\, 8020 Graz
DTSTART:20230316T190000Z
DTSTAMP:20260423T061922Z
ORGANIZER:MAILTO:tickets@tubes-music.at
GEO:47.062323;15.4334
X-APPLE-STRUCTURED-LOCATION;VALUE=URI;X-ADDRESS=Grieskai 74a\, 8020 Graz;X-
 APPLE-RADIUS=72;X-TITLE=Tube's:47.062323;15.4334
END:VEVENT
END:VCALENDAR