BEGIN:VCALENDAR
VERSION:2.0
PRODID:Events Booking
BEGIN:VEVENT
UID:69e99d2f902f1
SUMMARY:Anna Reisigl Project & Costa/Ziemann Duo
DESCRIPTION:
 
 
 
 Valerie Costa - Vocals
 Stefan Eitzenberger - Teno
 r/Soprano Sax
 Florian Reider - Klavier
 Raffael Auer - Drums
 Anna Rei
 sigl - Double- /Electric Bass\, Composition
 &nbsp\;
 ----
 &nbsp\;
 V
 alerie Costa - Vocals
 Danny Ziemann - Bass
 
 
 
 
LOCATION:Grieskai 74a\, 8020 Graz
DTSTART:20230302T190000Z
DTSTAMP:20260423T061647Z
ORGANIZER:MAILTO:tickets@tubes-music.at
GEO:47.062323;15.4334
X-APPLE-STRUCTURED-LOCATION;VALUE=URI;X-ADDRESS=Grieskai 74a\, 8020 Graz;X-
 APPLE-RADIUS=72;X-TITLE=Tube's:47.062323;15.4334
END:VEVENT
END:VCALENDAR