BEGIN:VCALENDAR
VERSION:2.0
PRODID:Events Booking
BEGIN:VEVENT
UID:69ea2ad62f76e
SUMMARY:Die Ranzler - CD Release
DESCRIPTION:Johannes Weichinger - Sopran SaxPaul Gritsch - Alt SaxJonathan 
 Herrgesell - Alt und Tenor SaxAnton Prettler - Alt und Tenor SaxDavid Grub
 er - Bariton SaxAndreas Salvatore Böcklinger - Schlagzeug&nbsp\;
LOCATION:Grieskai 74a\, 8020 Graz
DTSTART:20220920T180000Z
DTSTAMP:20260423T162110Z
ORGANIZER:MAILTO:tickets@tubes-music.at
GEO:47.062323;15.4334
X-APPLE-STRUCTURED-LOCATION;VALUE=URI;X-ADDRESS=Grieskai 74a\, 8020 Graz;X-
 APPLE-RADIUS=72;X-TITLE=Tube's:47.062323;15.4334
END:VEVENT
END:VCALENDAR