BEGIN:VCALENDAR
VERSION:2.0
PRODID:Events Booking
BEGIN:VEVENT
UID:69ea7567cfcde
SUMMARY:3 Bones & a Quill
DESCRIPTION:Luis Bonilla - tromboneKarel Eriksson - tromboneHrvoje Stefani
 ć - tromboneAlana McPherson - alto saxHrvoje Kral - bassKarlheinz Miklin 
 jr.&nbsp\;- drums
LOCATION:Grieskai 74a\, 8020 Graz
DTSTART:20220603T180000Z
DTSTAMP:20260423T213919Z
ORGANIZER:MAILTO:tickets@tubes-music.at
GEO:47.062323;15.4334
X-APPLE-STRUCTURED-LOCATION;VALUE=URI;X-ADDRESS=Grieskai 74a\, 8020 Graz;X-
 APPLE-RADIUS=72;X-TITLE=Tube's:47.062323;15.4334
END:VEVENT
END:VCALENDAR