BEGIN:VCALENDAR
VERSION:2.0
PRODID:Events Booking
BEGIN:VEVENT
UID:69e8bae55568d
SUMMARY:Prohibition Stompers - Christmas Special
DESCRIPTION:
 
 
 
 
 Marko Šolman&nbsp\;– Trumpet\, Vocals\, Bandl
 eaderKarel Eriksson&nbsp\;– TromboneNicolò Loro Ravenni&nbsp\;– Clari
 net\, Alto Sax\, Soprano SaxNobuo Watanabe&nbsp\;– PianoDominik Simon&nb
 sp\;– BanjoTobias Steinrück&nbsp\;– BassChristopher Zangl&nbsp\;– D
 rums
 Special guest: Tanja Filipović - Vocals
 
 
 
 
 
LOCATION:Grieskai 74a\, 8020 Graz
DTSTART:20231216T190000Z
DTSTAMP:20260422T141117Z
ORGANIZER:MAILTO:tickets@tubes-music.at
GEO:47.062323;15.4334
X-APPLE-STRUCTURED-LOCATION;VALUE=URI;X-ADDRESS=Grieskai 74a\, 8020 Graz;X-
 APPLE-RADIUS=72;X-TITLE=Tube's:47.062323;15.4334
END:VEVENT
END:VCALENDAR