BEGIN:VCALENDAR
VERSION:2.0
PRODID:Events Booking
BEGIN:VEVENT
UID:69e9e7eac5285
SUMMARY:Prohibition Stompers \"Christmas Special\"
DESCRIPTION:Marko Šolman – Trumpet\, VocalsKarel Eriksson – TromboneNi
 colò Loro Ravenni – Clarinet\, Alto Sax\, Soprano SaxNobuo Watanabe –
  PianoSimon Reithofer – BanjoTobias Steinrück – BassChristopher Zangl
  – Drums
LOCATION:Grieskai 74a\, 8020 Graz
DTSTART:20221218T190000Z
DTSTAMP:20260423T113538Z
ORGANIZER:MAILTO:tickets@tubes-music.at
GEO:47.062323;15.4334
X-APPLE-STRUCTURED-LOCATION;VALUE=URI;X-ADDRESS=Grieskai 74a\, 8020 Graz;X-
 APPLE-RADIUS=72;X-TITLE=Tube's:47.062323;15.4334
END:VEVENT
END:VCALENDAR