BEGIN:VCALENDAR
VERSION:2.0
PRODID:Events Booking
BEGIN:VEVENT
UID:69e8d8797cd54
SUMMARY:Emile Parisien Quartet
DESCRIPTION:
 
 
 
 GamsbART presents
 &nbsp\;
 
 Émile Parisien - 
 saxJulien Touéry - pianoIvan Gélugne - bassJulien Loutelier - drums
 

  
 
 
 
LOCATION:Grieskai 74a\, 8020 Graz
DTSTART:20231123T190000Z
DTSTAMP:20260422T161729Z
ORGANIZER:MAILTO:tickets@tubes-music.at
GEO:47.062323;15.4334
X-APPLE-STRUCTURED-LOCATION;VALUE=URI;X-ADDRESS=Grieskai 74a\, 8020 Graz;X-
 APPLE-RADIUS=72;X-TITLE=Tube's:47.062323;15.4334
END:VEVENT
END:VCALENDAR