BEGIN:VCALENDAR
VERSION:2.0
PRODID:Events Booking
BEGIN:VEVENT
UID:69e9397a06848
SUMMARY:Magnus Öström Group
DESCRIPTION:
 
 
 
 Magnus Öström - drumsThobias Gabrielson - bassAnd
 reas Hourdakis - guitarDaniel Karlsson - piano
 &nbsp\;
 presented by Ga
 msbART
 
 
 
 
LOCATION:Grieskai 74a\, 8020 Graz
DTSTART:20230703T183000Z
DTSTAMP:20260422T231122Z
ORGANIZER:MAILTO:tickets@tubes-music.at
GEO:47.062323;15.4334
X-APPLE-STRUCTURED-LOCATION;VALUE=URI;X-ADDRESS=Grieskai 74a\, 8020 Graz;X-
 APPLE-RADIUS=72;X-TITLE=Tube's:47.062323;15.4334
END:VEVENT
END:VCALENDAR