BEGIN:VCALENDAR
VERSION:2.0
PRODID:Events Booking
BEGIN:VEVENT
UID:69eaab27868a0
SUMMARY:Gerhard Ornig Group
DESCRIPTION:Gerhard Ornig - trumpet
 Saša Mutić - piano
 Ivar Roban-Kri
 zić&nbsp\;- bass
 Reini Schmölzer -&nbsp\;drums
 &nbsp\;
 special gue
 st: Jure Pukl (SLO) – saxophone
 
LOCATION:Grieskai 74a\, 8020 Graz
DTSTART:20220422T180000Z
DTSTAMP:20260424T012839Z
ORGANIZER:MAILTO:tickets@tubes-music.at
GEO:47.062323;15.4334
X-APPLE-STRUCTURED-LOCATION;VALUE=URI;X-ADDRESS=Grieskai 74a\, 8020 Graz;X-
 APPLE-RADIUS=72;X-TITLE=Tube's:47.062323;15.4334
END:VEVENT
END:VCALENDAR