BEGIN:VCALENDAR
VERSION:2.0
PRODID:Events Booking
BEGIN:VEVENT
UID:69eaab9e155b6
SUMMARY:Gerhard Ornig Group
DESCRIPTION:Gerhard Ornig - trumpet
 Saša Mutić - piano
 Ivar Roban-Kri
 zić&nbsp\;- bass
 Reini Schmölzer - drums
 &nbsp\;
 special guest: Si
 na Shaari (IRN) – Oud\, guit
LOCATION:Grieskai 74a\, 8020 Graz
DTSTART:20220421T180000Z
DTSTAMP:20260424T013038Z
ORGANIZER:MAILTO:tickets@tubes-music.at
GEO:47.062323;15.4334
X-APPLE-STRUCTURED-LOCATION;VALUE=URI;X-ADDRESS=Grieskai 74a\, 8020 Graz;X-
 APPLE-RADIUS=72;X-TITLE=Tube's:47.062323;15.4334
END:VEVENT
END:VCALENDAR