BEGIN:VCALENDAR
VERSION:2.0
PRODID:Events Booking
BEGIN:VEVENT
UID:69e7c989c65c5
SUMMARY:„SIR“ Oliver Mally group & the SF-HORNETS
DESCRIPTION:
 
 
 
 
 
 
 \"Sir\" Oliver Mally – guitar / vocalAle
 x Meik&nbsp\;- bass / vocalPeter Lenz - drumsfeaturing:Martin Gasselsberge
 r - piano / keys
 Sigi Feigl - alto/tenor saxKarl Rossmann - trumpetLuis 
 Bonilla - tromboneSascha Ryndenko - baritone sax
 
 
 
 
 
 
 
LOCATION:Grieskai 74a\, 8020 Graz
DTSTART:20241005T180000Z
DTSTAMP:20260421T210129Z
ORGANIZER:MAILTO:tickets@tubes-music.at
GEO:47.062323;15.4334
X-APPLE-STRUCTURED-LOCATION;VALUE=URI;X-ADDRESS=Grieskai 74a\, 8020 Graz;X-
 APPLE-RADIUS=72;X-TITLE=Tube's:47.062323;15.4334
END:VEVENT
END:VCALENDAR