BEGIN:VCALENDAR
VERSION:2.0
PRODID:Events Booking
BEGIN:VEVENT
UID:69e4c387ec662
SUMMARY:ÖH-KUG tunes@tube's
DESCRIPTION:
 
 
 
 
 William-Peres - Cello Duo
 Julie &amp\; Flo
 M
 ikis Protopapadakis Quartet
 Mandacarú (photo)
 
 
 
 
 
LOCATION:Grieskai 74a\, 8020 Graz
DTSTART:20250520T180000Z
DTSTAMP:20260419T135903Z
ORGANIZER:MAILTO:tickets@tubes-music.at
GEO:47.062323;15.4334
X-APPLE-STRUCTURED-LOCATION;VALUE=URI;X-ADDRESS=Grieskai 74a\, 8020 Graz;X-
 APPLE-RADIUS=72;X-TITLE=Tube's:47.062323;15.4334
END:VEVENT
END:VCALENDAR