BEGIN:VCALENDAR
VERSION:2.0
PRODID:Events Booking
BEGIN:VEVENT
UID:69e77d8e3cd53
SUMMARY:ÖH-KUG tunes@tube's
DESCRIPTION:
 
 
 
 Matilda Fatur QuartetKUGroove - StringsBrandon Jone
 s QuintetTadej’s News (photo)
 
 
 
 
LOCATION:Grieskai 74a\, 8020 Graz
DTSTART:20250121T190000Z
DTSTAMP:20260421T153718Z
ORGANIZER:MAILTO:tickets@tubes-music.at
GEO:47.062323;15.4334
X-APPLE-STRUCTURED-LOCATION;VALUE=URI;X-ADDRESS=Grieskai 74a\, 8020 Graz;X-
 APPLE-RADIUS=72;X-TITLE=Tube's:47.062323;15.4334
END:VEVENT
END:VCALENDAR