BEGIN:VCALENDAR
VERSION:2.0
PRODID:Events Booking
BEGIN:VEVENT
UID:69e82d78495b9
SUMMARY:ÖH-KUG tunes@tube's
DESCRIPTION:
 
 
 
 
 
 
 Trio KaiserfeldClassical VOLK - (photo)Gra
 ndhotel Graz TanzorchestraKlavierduo Kalabova &amp\; Gugg
 
 
 
 
 

  
 
LOCATION:Grieskai 74a\, 8020 Graz
DTSTART:20240611T180000Z
DTSTAMP:20260422T040752Z
ORGANIZER:MAILTO:tickets@tubes-music.at
GEO:47.062323;15.4334
X-APPLE-STRUCTURED-LOCATION;VALUE=URI;X-ADDRESS=Grieskai 74a\, 8020 Graz;X-
 APPLE-RADIUS=72;X-TITLE=Tube's:47.062323;15.4334
END:VEVENT
END:VCALENDAR