BEGIN:VCALENDAR
VERSION:2.0
PRODID:Events Booking
BEGIN:VEVENT
UID:69e84359642e2
SUMMARY:ÖH-KUG tunes@tube's
DESCRIPTION:
 
 
 
 
 
 Bandouba
 Grumpy Cats
 Ost Block Cooperativ
 e (photo)
 Casual Conversation
 &nbsp\;
 
 &nbsp\;
 
 
 
 
 
LOCATION:Grieskai 74a\, 8020 Graz
DTSTART:20240507T180000Z
DTSTAMP:20260422T054113Z
ORGANIZER:MAILTO:tickets@tubes-music.at
GEO:47.062323;15.4334
X-APPLE-STRUCTURED-LOCATION;VALUE=URI;X-ADDRESS=Grieskai 74a\, 8020 Graz;X-
 APPLE-RADIUS=72;X-TITLE=Tube's:47.062323;15.4334
END:VEVENT
END:VCALENDAR