BEGIN:VCALENDAR
VERSION:2.0
PRODID:Events Booking
BEGIN:VEVENT
UID:69e7949a75195
SUMMARY:ÖH-KUG tunes@tube's
DESCRIPTION:
 
 
 
 
 McQuintet
 Onat Murat Trio
 Lukas Blume Quarte
 tt&nbsp\;&nbsp\;(foto)
 Mary Pommer Trio
 
 
 
 
 
LOCATION:Grieskai 74a\, 8020 Graz
DTSTART:20241210T190000Z
DTSTAMP:20260421T171538Z
ORGANIZER:MAILTO:tickets@tubes-music.at
GEO:47.062323;15.4334
X-APPLE-STRUCTURED-LOCATION;VALUE=URI;X-ADDRESS=Grieskai 74a\, 8020 Graz;X-
 APPLE-RADIUS=72;X-TITLE=Tube's:47.062323;15.4334
END:VEVENT
END:VCALENDAR