BEGIN:VCALENDAR
VERSION:2.0
PRODID:Events Booking
BEGIN:VEVENT
UID:69e7cac1b9813
SUMMARY:ÖH-KUG tunes@tube's
DESCRIPTION:
 
 
 
 
 Katarina NIKOLČIĆ&nbsp\;- QuerflöteNina Smrek
 ar&nbsp\;- OboeNicola VITALE -&nbsp\;KlarinetteEva FRITZ&nbsp\;- Fagott
 
 
 
 
 
 
LOCATION:Grieskai 74a\, 8020 Graz
DTSTART:20241022T180000Z
DTSTAMP:20260421T210641Z
ORGANIZER:MAILTO:tickets@tubes-music.at
GEO:47.062323;15.4334
X-APPLE-STRUCTURED-LOCATION;VALUE=URI;X-ADDRESS=Grieskai 74a\, 8020 Graz;X-
 APPLE-RADIUS=72;X-TITLE=Tube's:47.062323;15.4334
END:VEVENT
END:VCALENDAR