BEGIN:VCALENDAR
VERSION:2.0
PRODID:Events Booking
BEGIN:VEVENT
UID:69e8d28cd0291
SUMMARY:ÖH-KUG live@tube's
DESCRIPTION:
 
 
 
 
 Ebi und Kesi Çoku Duo (Alte Musik)\, photoZoran
  Šmic Trio (Gypsy Jazz)Meet In The Middle Duo (Klassische Musik)Emily Fer
 ri Trio (Zeitgenössische Popmusik)
 
 
 
 
 
LOCATION:Grieskai 74a\, 8020 Graz
DTSTART:20231128T190000Z
DTSTAMP:20260422T155212Z
ORGANIZER:MAILTO:tickets@tubes-music.at
GEO:47.062323;15.4334
X-APPLE-STRUCTURED-LOCATION;VALUE=URI;X-ADDRESS=Grieskai 74a\, 8020 Graz;X-
 APPLE-RADIUS=72;X-TITLE=Tube's:47.062323;15.4334
END:VEVENT
END:VCALENDAR