BEGIN:VCALENDAR
VERSION:2.0
PRODID:Events Booking
BEGIN:VEVENT
UID:69e924470c5b7
SUMMARY:ÖH-KUG live@tube's
DESCRIPTION:
 
 
 
 
 Tromeja Quartett&nbsp\;- Wind QuartettCarreiro-W
 illiams Guitar Duo&nbsp\;- Classical Guitar DuoUnorthodox Radio&nbsp\;- Co
 ntemporary PopMartin Iaies 4 Ensemble&nbsp\;- Jazz Quartett
 
 
 
 
 
LOCATION:Grieskai 74a\, 8020 Graz
DTSTART:20231010T180000Z
DTSTAMP:20260422T214055Z
ORGANIZER:MAILTO:tickets@tubes-music.at
GEO:47.062323;15.4334
X-APPLE-STRUCTURED-LOCATION;VALUE=URI;X-ADDRESS=Grieskai 74a\, 8020 Graz;X-
 APPLE-RADIUS=72;X-TITLE=Tube's:47.062323;15.4334
END:VEVENT
END:VCALENDAR