BEGIN:VCALENDAR
VERSION:2.0
PRODID:Events Booking
BEGIN:VEVENT
UID:69ead56284027
SUMMARY:Dick Oatts Quartet & Luis Bonilla
DESCRIPTION:Dick Oatts Quartet
 Dick Oatts (USA) - alto saxAndrea Pozza (I
 TA) - pianoAldo Zunino (ITA) - bassBernd Reiter (A) - drums
 special gues
 t: Luis Bonilla - trombone
LOCATION:Grieskai 74a\, 8020 Graz
DTSTART:20220304T190000Z
DTSTAMP:20260424T042850Z
ORGANIZER:MAILTO:tickets@tubes-music.at
GEO:47.062323;15.4334
X-APPLE-STRUCTURED-LOCATION;VALUE=URI;X-ADDRESS=Grieskai 74a\, 8020 Graz;X-
 APPLE-RADIUS=72;X-TITLE=Tube's:47.062323;15.4334
END:VEVENT
END:VCALENDAR