BEGIN:VCALENDAR
VERSION:2.0
PRODID:Events Booking
BEGIN:VEVENT
UID:69e7b0066f3ca
SUMMARY:Niklouds - Resilience
DESCRIPTION:
 
 
 
 
 
 
 
 
 
 
 
 
 Nikolaus \"Niklouds\" Ho
 ller - asSimon Raab - pTobias Vedovelli - dbMatheus Jardim - dr
 
 
 

  
 
 
 
 
 
 
 
 
 
 
LOCATION:Grieskai 74a\, 8020 Graz
DTSTART:20241109T190000Z
DTSTAMP:20260421T191238Z
ORGANIZER:MAILTO:tickets@tubes-music.at
GEO:47.062323;15.4334
X-APPLE-STRUCTURED-LOCATION;VALUE=URI;X-ADDRESS=Grieskai 74a\, 8020 Graz;X-
 APPLE-RADIUS=72;X-TITLE=Tube's:47.062323;15.4334
END:VEVENT
END:VCALENDAR