BEGIN:VCALENDAR
VERSION:2.0
PRODID:Events Booking
BEGIN:VEVENT
UID:69e7690a90014
SUMMARY:Anne Niepold & Alfama Quartett: NORD
DESCRIPTION:
 
 
 
 
 Anne Niepold&nbsp\;–&nbsp\;Diatonisches Akkord
 eon\, Kompositionen und Arrangements
 Alfama Quartett:Alice Van Leuven&nb
 sp\;–&nbsp\;GeigeCaroline Denys&nbsp\;–&nbsp\;Geige&nbsp\;Diede Verpoe
 st&nbsp\;–&nbsp\;Bratsche&nbsp\;Julia Kotarba&nbsp\;–&nbsp\;Cello&nbsp
 \;&nbsp\; 
 presented by
 
 
 
 
 
LOCATION:Grieskai 74a\, 8020 Graz
DTSTART:20250223T183000Z
DTSTAMP:20260421T140946Z
ORGANIZER:MAILTO:tickets@tubes-music.at
GEO:47.062323;15.4334
X-APPLE-STRUCTURED-LOCATION;VALUE=URI;X-ADDRESS=Grieskai 74a\, 8020 Graz;X-
 APPLE-RADIUS=72;X-TITLE=Tube's:47.062323;15.4334
END:VEVENT
END:VCALENDAR